BEGIN:VCALENDAR
VERSION:2.0
PRODID:icalendar-ruby
CALSCALE:GREGORIAN
METHOD:PUBLISH
BEGIN:VEVENT
DTSTAMP:20260424T181728Z
UID:b84da142-2fd2-4bc6-aee8-c2267dd57ac6
DTSTART;VALUE=DATE:20200902
DTEND;VALUE=DATE:20200902
DESCRIPTION:Fort Wayne BMX
LOCATION:3411 Sherman Blvd  Fort Wayne IN 46808 USA
SUMMARY:Standard Single Single
URL:/site/bmx_races/424240
END:VEVENT
END:VCALENDAR
