BEGIN:VCALENDAR
VERSION:2.0
PRODID:icalendar-ruby
CALSCALE:GREGORIAN
METHOD:PUBLISH
BEGIN:VEVENT
DTSTAMP:20260424T094911Z
UID:358d271b-11a3-48c8-9678-659e87d4599e
DTSTART;VALUE=DATE:20200726
DTEND;VALUE=DATE:20200726
DESCRIPTION:Caldwell BMX
LOCATION:4700 Skyway St  Caldwell ID 83605 USA
SUMMARY:Standard Double Double
URL:/site/bmx_races/424160
END:VEVENT
END:VCALENDAR
