BEGIN:VCALENDAR
VERSION:2.0
PRODID:icalendar-ruby
CALSCALE:GREGORIAN
METHOD:PUBLISH
BEGIN:VEVENT
DTSTAMP:20260424T131337Z
UID:444b10e2-a881-43c6-9769-6466234018b3
DTSTART;VALUE=DATE:20200310
DTEND;VALUE=DATE:20200310
DESCRIPTION:Yukon BMX
LOCATION:Taylor Park Sports Complex   410 N 11th St Yukon OK 73064 USA
SUMMARY:Standard Single Single
URL:/site/bmx_races/424044
END:VEVENT
END:VCALENDAR
