BEGIN:VCALENDAR
VERSION:2.0
PRODID:icalendar-ruby
CALSCALE:GREGORIAN
METHOD:PUBLISH
BEGIN:VEVENT
DTSTAMP:20260424T185750Z
UID:af4a6ffc-787d-4a2c-83f8-0f2f20030f7a
DTSTART;VALUE=DATE:20200905
DTEND;VALUE=DATE:20200905
DESCRIPTION:Dacono BMX
LOCATION:113 Forest Ave  Dacono CO 80514 USA
SUMMARY:Standard Double Double
URL:/site/bmx_races/424014
END:VEVENT
END:VCALENDAR
