BEGIN:VCALENDAR
VERSION:2.0
PRODID:icalendar-ruby
CALSCALE:GREGORIAN
METHOD:PUBLISH
BEGIN:VEVENT
DTSTAMP:20260420T233225Z
UID:61774949-104f-415b-ba41-2c511cdfcc45
DTSTART;VALUE=DATE:20201215
DTEND;VALUE=DATE:20201215
DESCRIPTION:Metro BMX
LOCATION:3805 Chester Ave  In The Sam Lynn Ballpark Complex Bakersfield CA 
 93301 USA
SUMMARY:Practice
URL:/site/bmx_races/423928
END:VEVENT
END:VCALENDAR
