BEGIN:VCALENDAR
VERSION:2.0
PRODID:icalendar-ruby
CALSCALE:GREGORIAN
METHOD:PUBLISH
BEGIN:VEVENT
DTSTAMP:20260420T202847Z
UID:c36f0958-26aa-454b-87f2-90b0c0483515
DTSTART;VALUE=DATE:20201011
DTEND;VALUE=DATE:20201011
DESCRIPTION:Metro BMX
LOCATION:3805 Chester Ave  In The Sam Lynn Ballpark Complex Bakersfield CA 
 93301 USA
SUMMARY:Local Race Single
URL:/site/bmx_races/423900
END:VEVENT
END:VCALENDAR
