BEGIN:VCALENDAR
VERSION:2.0
PRODID:icalendar-ruby
CALSCALE:GREGORIAN
METHOD:PUBLISH
BEGIN:VEVENT
DTSTAMP:20260420T185202Z
UID:7ebf62ae-0b6d-40b5-bb59-74603bfa00af
DTSTART;VALUE=DATE:20200913
DTEND;VALUE=DATE:20200913
DESCRIPTION:Metro BMX
LOCATION:3805 Chester Ave  In The Sam Lynn Ballpark Complex Bakersfield CA 
 93301 USA
SUMMARY:Local Race Single
URL:/site/bmx_races/423889
END:VEVENT
END:VCALENDAR
