BEGIN:VCALENDAR
VERSION:2.0
PRODID:icalendar-ruby
CALSCALE:GREGORIAN
METHOD:PUBLISH
BEGIN:VEVENT
DTSTAMP:20260420T130711Z
UID:df2febfe-ecc8-4e4e-a710-246aceec4b3a
DTSTART;VALUE=DATE:20200510
DTEND;VALUE=DATE:20200510
DESCRIPTION:Metro BMX
LOCATION:3805 Chester Ave  In The Sam Lynn Ballpark Complex Bakersfield CA 
 93301 USA
SUMMARY:Local Race Single
URL:/site/bmx_races/423835
END:VEVENT
END:VCALENDAR
