BEGIN:VCALENDAR
VERSION:2.0
PRODID:icalendar-ruby
CALSCALE:GREGORIAN
METHOD:PUBLISH
BEGIN:VEVENT
DTSTAMP:20260425T033138Z
UID:4092d31b-a549-4745-b657-7b5e9f7710de
DTSTART;VALUE=DATE:20201106
DTEND;VALUE=DATE:20201106
DESCRIPTION:Sand Springs BMX
LOCATION:2600 S River City Park Rd  Sand Springs OK 74063 USA
SUMMARY:Standard Single Single
URL:/site/bmx_races/423430
END:VEVENT
END:VCALENDAR
