BEGIN:VCALENDAR
VERSION:2.0
PRODID:icalendar-ruby
CALSCALE:GREGORIAN
METHOD:PUBLISH
BEGIN:VEVENT
DTSTAMP:20260424T131333Z
UID:59b23872-daee-4609-9a35-76bdc97ea54f
DTSTART;VALUE=DATE:20200814
DTEND;VALUE=DATE:20200814
DESCRIPTION:Sand Springs BMX
LOCATION:2600 S River City Park Rd  Sand Springs OK 74063 USA
SUMMARY:Standard Single Single
URL:/site/bmx_races/423394
END:VEVENT
END:VCALENDAR
