BEGIN:VCALENDAR
VERSION:2.0
PRODID:icalendar-ruby
CALSCALE:GREGORIAN
METHOD:PUBLISH
BEGIN:VEVENT
DTSTAMP:20260424T144045Z
UID:08f24878-31f5-4df1-9311-756267986b68
DTSTART;VALUE=DATE:20200719
DTEND;VALUE=DATE:20200719
DESCRIPTION:Chesapeake BMX
LOCATION:726 Donaldson Avenue  Severn MD 21144 USA
SUMMARY:Standard Single Single
URL:/site/bmx_races/423138
END:VEVENT
END:VCALENDAR
