BEGIN:VCALENDAR
VERSION:2.0
PRODID:icalendar-ruby
CALSCALE:GREGORIAN
METHOD:PUBLISH
BEGIN:VEVENT
DTSTAMP:20260424T185723Z
UID:19d20bc4-216c-47d7-8f95-1ea066aac228
DTSTART;VALUE=DATE:20200809
DTEND;VALUE=DATE:20200809
DESCRIPTION:Fort Wayne BMX
LOCATION:3411 Sherman Blvd  Fort Wayne IN 46808 USA
SUMMARY:Qualifier Triple
URL:/site/bmx_races/423075
END:VEVENT
END:VCALENDAR
