BEGIN:VCALENDAR
VERSION:2.0
PRODID:icalendar-ruby
CALSCALE:GREGORIAN
METHOD:PUBLISH
BEGIN:VEVENT
DTSTAMP:20260424T184708Z
UID:cc9409dc-bca6-45d2-b939-ced9a85d2f68
DTSTART;VALUE=DATE:20200725
DTEND;VALUE=DATE:20200725
DESCRIPTION:Pineview Park BMX
LOCATION:6540 Saukview Dr  St. Cloud MN 56303 USA
SUMMARY:Qualifier Triple
URL:/site/bmx_races/423063
END:VEVENT
END:VCALENDAR
