BEGIN:VCALENDAR
VERSION:2.0
PRODID:icalendar-ruby
CALSCALE:GREGORIAN
METHOD:PUBLISH
BEGIN:VEVENT
DTSTAMP:20260425T011606Z
UID:8f19a14c-d13a-41d0-908e-a53b97fc5c2a
DTSTART;VALUE=DATE:20200802
DTEND;VALUE=DATE:20200802
DESCRIPTION:Shelby Farms BMX
LOCATION:6435 Walnut Grove Rd  Memphis TN 38119 USA
SUMMARY:Standard Triple Triple
URL:/site/bmx_races/423050
END:VEVENT
END:VCALENDAR
