BEGIN:VCALENDAR
VERSION:2.0
PRODID:icalendar-ruby
CALSCALE:GREGORIAN
METHOD:PUBLISH
BEGIN:VEVENT
DTSTAMP:20260424T220328Z
UID:1ccb8cd6-9542-4c3e-88d2-bfd769bd4743
DTSTART;VALUE=DATE:20200725
DTEND;VALUE=DATE:20200725
DESCRIPTION:Bradley BMX
LOCATION:234 Urbane Rd  Cleveland TN 37312 USA
SUMMARY:Standard Single Single
URL:/site/bmx_races/422722
END:VEVENT
END:VCALENDAR
