BEGIN:VCALENDAR
VERSION:2.0
PRODID:icalendar-ruby
CALSCALE:GREGORIAN
METHOD:PUBLISH
BEGIN:VEVENT
DTSTAMP:20260424T072233Z
UID:97fd2057-34aa-4354-932e-40acc67fe108
DTSTART;VALUE=DATE:20200728
DTEND;VALUE=DATE:20200728
DESCRIPTION:Marquette BMX
LOCATION:910 Hawley Street  Marquette MI 49855 USA
SUMMARY:Standard Single Single
URL:/site/bmx_races/422580
END:VEVENT
END:VCALENDAR
