BEGIN:VCALENDAR
VERSION:2.0
PRODID:icalendar-ruby
CALSCALE:GREGORIAN
METHOD:PUBLISH
BEGIN:VEVENT
DTSTAMP:20260425T142040Z
UID:ea72e08f-88e7-49c0-a771-60929a78b589
DTSTART;VALUE=DATE:20190929
DTEND;VALUE=DATE:20190929
DESCRIPTION:Elings Park BMX Raceway
LOCATION:1298 Las Positas Rd  Santa Barbara CA 93105 USA
SUMMARY:Standard Single Single
URL:/site/bmx_races/422394
END:VEVENT
END:VCALENDAR
