BEGIN:VCALENDAR
VERSION:2.0
PRODID:icalendar-ruby
CALSCALE:GREGORIAN
METHOD:PUBLISH
BEGIN:VEVENT
DTSTAMP:20260424T163544Z
UID:3881ac2f-d627-40ec-8afb-3a98e41c78e2
DTSTART;VALUE=DATE:20201003
DTEND;VALUE=DATE:20201003
DESCRIPTION:Spokane BMX
LOCATION:5701 N Assembly St  Spokane WA 99205 USA
SUMMARY:Standard Single Single
URL:/site/bmx_races/422255
END:VEVENT
END:VCALENDAR
