BEGIN:VCALENDAR
VERSION:2.0
PRODID:icalendar-ruby
CALSCALE:GREGORIAN
METHOD:PUBLISH
BEGIN:VEVENT
DTSTAMP:20260424T141305Z
UID:8846b3da-3650-4d87-91c5-bc275164c524
DTSTART;VALUE=DATE:20200901
DTEND;VALUE=DATE:20200901
DESCRIPTION:Lakes Area BMX
LOCATION:10415 Town Hall Street  Brainerd MN 56401 USA
SUMMARY:Standard Single Single
URL:/site/bmx_races/422183
END:VEVENT
END:VCALENDAR
