BEGIN:VCALENDAR
VERSION:2.0
PRODID:icalendar-ruby
CALSCALE:GREGORIAN
METHOD:PUBLISH
BEGIN:VEVENT
DTSTAMP:20260424T095007Z
UID:18daacab-1758-4e83-a6e7-5be679b14523
DTSTART;VALUE=DATE:20200605
DTEND;VALUE=DATE:20200605
DESCRIPTION:Grand Traverse County BMX
LOCATION:3625 Nimrod Rd  Traverse County MI 49685 USA
SUMMARY:Standard Single Single
URL:/site/bmx_races/422009
END:VEVENT
END:VCALENDAR
