BEGIN:VCALENDAR
VERSION:2.0
PRODID:icalendar-ruby
CALSCALE:GREGORIAN
METHOD:PUBLISH
BEGIN:VEVENT
DTSTAMP:20260424T141905Z
UID:322b9a10-8938-41aa-84e9-d4da24e36f29
DTSTART;VALUE=DATE:20200307
DTEND;VALUE=DATE:20200307
DESCRIPTION:Southwest Wyoming Indoor BMX
LOCATION:3320 Yellowstone Road  Rock Springs WY 82901 USA
SUMMARY:Race For Life Double Double
URL:/site/bmx_races/421964
END:VEVENT
END:VCALENDAR
