BEGIN:VCALENDAR
VERSION:2.0
PRODID:icalendar-ruby
CALSCALE:GREGORIAN
METHOD:PUBLISH
BEGIN:VEVENT
DTSTAMP:20260424T190036Z
UID:d7429fbc-be4c-477c-937c-59f2a0dc9c8d
DTSTART;VALUE=DATE:20200207
DTEND;VALUE=DATE:20200207
DESCRIPTION:Southwest Wyoming Indoor BMX
LOCATION:3320 Yellowstone Road  Rock Springs WY 82901 USA
SUMMARY:Warnicke Single
URL:/site/bmx_races/421963
END:VEVENT
END:VCALENDAR
