BEGIN:VCALENDAR
VERSION:2.0
PRODID:icalendar-ruby
CALSCALE:GREGORIAN
METHOD:PUBLISH
BEGIN:VEVENT
DTSTAMP:20260424T094841Z
UID:f4eff1b7-575d-4cbc-a38e-3d5e965cd1a0
DTSTART;VALUE=DATE:20200715
DTEND;VALUE=DATE:20200715
DESCRIPTION:Mankato Area BMX
LOCATION:100 Industrial Rd  Mankato MN 56001 USA
SUMMARY:Standard Single Single
URL:/site/bmx_races/421863
END:VEVENT
END:VCALENDAR
