BEGIN:VCALENDAR
VERSION:2.0
PRODID:icalendar-ruby
CALSCALE:GREGORIAN
METHOD:PUBLISH
BEGIN:VEVENT
DTSTAMP:20260425T214803Z
UID:3ac3908c-598c-4dfb-85e0-ffeb6ab5465f
DTSTART;VALUE=DATE:20201108
DTEND;VALUE=DATE:20201108
DESCRIPTION:Twin City BMX
LOCATION:401 Lea Joyner Memorial Expy  Monroe LA 71201 USA
SUMMARY:Standard Single Single
URL:/site/bmx_races/421692
END:VEVENT
END:VCALENDAR
