BEGIN:VCALENDAR
VERSION:2.0
PRODID:icalendar-ruby
CALSCALE:GREGORIAN
METHOD:PUBLISH
BEGIN:VEVENT
DTSTAMP:20260425T025600Z
UID:b9c18375-d3cb-414d-969a-ff5e55bcb126
DTSTART;VALUE=DATE:20200216
DTEND;VALUE=DATE:20200216
DESCRIPTION:Dayton Indoor BMX
LOCATION:16 Edmund St  Dayton OH 45404-1668 USA
SUMMARY:Standard Single Single
URL:/site/bmx_races/421065
END:VEVENT
END:VCALENDAR
