BEGIN:VCALENDAR
VERSION:2.0
PRODID:icalendar-ruby
CALSCALE:GREGORIAN
METHOD:PUBLISH
BEGIN:VEVENT
DTSTAMP:20260424T203824Z
UID:f97ee5cd-fe1f-47ed-a58b-229e25116292
DTSTART;VALUE=DATE:20200611
DTEND;VALUE=DATE:20200611
DESCRIPTION:Fastrax BMX
LOCATION:2800 S 12th St  Bismarck ND 58504 USA
SUMMARY:Standard Single Single
URL:/site/bmx_races/420544
END:VEVENT
END:VCALENDAR
