BEGIN:VCALENDAR
VERSION:2.0
PRODID:icalendar-ruby
CALSCALE:GREGORIAN
METHOD:PUBLISH
BEGIN:VEVENT
DTSTAMP:20260425T201712Z
UID:d6cb4535-7474-4516-a5c7-b77baf94e56e
DTSTART;VALUE=DATE:20191106
DTEND;VALUE=DATE:20191106
DESCRIPTION:Charlotte BMX
LOCATION:2505 Carmalita St  Punta Gorda FL 33950 USA
SUMMARY:Standard Single Single
URL:/site/bmx_races/420054
END:VEVENT
END:VCALENDAR
