BEGIN:VCALENDAR
VERSION:2.0
PRODID:icalendar-ruby
CALSCALE:GREGORIAN
METHOD:PUBLISH
BEGIN:VEVENT
DTSTAMP:20260424T203943Z
UID:3beaac1b-11a7-4e4f-bbba-f17df4604dbc
DTSTART;VALUE=DATE:20191214
DTEND;VALUE=DATE:20191214
DESCRIPTION:Southwest Wyoming Indoor BMX
LOCATION:3320 Yellowstone Road  Rock Springs WY 82901 USA
SUMMARY:Standard Single Single
URL:/site/bmx_races/419803
END:VEVENT
END:VCALENDAR
