BEGIN:VCALENDAR
VERSION:2.0
PRODID:icalendar-ruby
CALSCALE:GREGORIAN
METHOD:PUBLISH
BEGIN:VEVENT
DTSTAMP:20260424T101226Z
UID:663bf7e0-e92b-408e-91b4-677c3a24eaa4
DTSTART;VALUE=DATE:20191123
DTEND;VALUE=DATE:20191123
DESCRIPTION:Akron BMX
LOCATION:800 Derby Downs Drive  Akron OH 44306 USA
SUMMARY:Standard Single Single
URL:/site/bmx_races/419785
END:VEVENT
END:VCALENDAR
