BEGIN:VCALENDAR
VERSION:2.0
PRODID:icalendar-ruby
CALSCALE:GREGORIAN
METHOD:PUBLISH
BEGIN:VEVENT
DTSTAMP:20260424T184743Z
UID:f33c2e35-f8a9-4823-a8e4-7f078ff81299
DTSTART;VALUE=DATE:20190809
DTEND;VALUE=DATE:20190809
DESCRIPTION:Cactus Park BMX
LOCATION:10610 Ashwood St  Lakeside CA 92040 USA
SUMMARY:Standard Single Single
URL:/site/bmx_races/419305
END:VEVENT
END:VCALENDAR
