BEGIN:VCALENDAR
VERSION:2.0
PRODID:icalendar-ruby
CALSCALE:GREGORIAN
METHOD:PUBLISH
BEGIN:VEVENT
DTSTAMP:20260425T185429Z
UID:977669b1-48ea-4a77-9f71-1e9d1a5c65be
DTSTART;VALUE=DATE:20191022
DTEND;VALUE=DATE:20191022
DESCRIPTION:Triple Creek BMX
LOCATION:12705 Balm Boyette Rd  Riverview FL 33579 USA
SUMMARY:Standard Single Single
URL:/site/bmx_races/418754
END:VEVENT
END:VCALENDAR
