BEGIN:VCALENDAR
VERSION:2.0
PRODID:icalendar-ruby
CALSCALE:GREGORIAN
METHOD:PUBLISH
BEGIN:VEVENT
DTSTAMP:20260424T131336Z
UID:e0e82360-bfbf-43bc-939d-74994941a24a
DTSTART;VALUE=DATE:20190815
DTEND;VALUE=DATE:20190815
DESCRIPTION:Kingston BMX
LOCATION:1180 Woodbine Rd  Kingston ON K7P 2X6 CAN
SUMMARY:Standard Single Single
URL:/site/bmx_races/418358
END:VEVENT
END:VCALENDAR
