BEGIN:VCALENDAR
VERSION:2.0
PRODID:icalendar-ruby
CALSCALE:GREGORIAN
METHOD:PUBLISH
BEGIN:VEVENT
DTSTAMP:20260424T220359Z
UID:19bb03c2-f672-4790-aba5-52f5c336b86a
DTSTART;VALUE=DATE:20190820
DTEND;VALUE=DATE:20190820
DESCRIPTION:Sarasota BMX
LOCATION:1590 North Tuttle Avenue  Sarasota FL 34237 USA
SUMMARY:Standard Single Single
URL:/site/bmx_races/418206
END:VEVENT
END:VCALENDAR
