BEGIN:VCALENDAR
VERSION:2.0
PRODID:icalendar-ruby
CALSCALE:GREGORIAN
METHOD:PUBLISH
BEGIN:VEVENT
DTSTAMP:20260424T091934Z
UID:ad697666-1d58-4bf9-a8fc-dc927421461a
DTSTART;VALUE=DATE:20190726
DTEND;VALUE=DATE:20190726
DESCRIPTION:Cajun BMX Park
LOCATION:301 Rue Fosse  Lafayette LA 70508 USA
SUMMARY:Standard Single Single
URL:/site/bmx_races/418159
END:VEVENT
END:VCALENDAR
