BEGIN:VCALENDAR
VERSION:2.0
PRODID:icalendar-ruby
CALSCALE:GREGORIAN
METHOD:PUBLISH
BEGIN:VEVENT
DTSTAMP:20260425T011708Z
UID:e2493ca4-819c-4c99-a90a-231e88944219
DTSTART;VALUE=DATE:20190809
DTEND;VALUE=DATE:20190809
DESCRIPTION:Pearland BMX
LOCATION:5657 Morning Dove Ln  Alvin TX 77511 USA
SUMMARY:Race For Life Single
URL:/site/bmx_races/418010
END:VEVENT
END:VCALENDAR
