BEGIN:VCALENDAR
VERSION:2.0
PRODID:icalendar-ruby
CALSCALE:GREGORIAN
METHOD:PUBLISH
BEGIN:VEVENT
DTSTAMP:20260425T202210Z
UID:01074bb3-fd46-4c4b-ace4-e8da29cea399
DTSTART;VALUE=DATE:20190702
DTEND;VALUE=DATE:20190702
DESCRIPTION:Blue Springs BMX
LOCATION:2715 Nw Park Drive  Blue Springs MO 64015 USA
SUMMARY:Standard Single Single
URL:/site/bmx_races/417970
END:VEVENT
END:VCALENDAR
