BEGIN:VCALENDAR
VERSION:2.0
PRODID:icalendar-ruby
CALSCALE:GREGORIAN
METHOD:PUBLISH
BEGIN:VEVENT
DTSTAMP:20260424T194731Z
UID:fd29ce23-6aa1-49af-876e-eb51fc2c90b6
DTSTART;VALUE=DATE:20190808
DTEND;VALUE=DATE:20190808
DESCRIPTION:East Moline BMX
LOCATION:1930 Avenue Of The Cities  East Moline IL 61241 USA
SUMMARY:Standard Single Single
URL:/site/bmx_races/417820
END:VEVENT
END:VCALENDAR
