BEGIN:VCALENDAR
VERSION:2.0
PRODID:icalendar-ruby
CALSCALE:GREGORIAN
METHOD:PUBLISH
BEGIN:VEVENT
DTSTAMP:20260424T154541Z
UID:6bd10e95-1d2c-4152-a2ce-4a521854e341
DTSTART;VALUE=DATE:20190617
DTEND;VALUE=DATE:20190617
DESCRIPTION:Raytown BMX
LOCATION:12605 Frost Rd  Kansas City MO 64138 USA
SUMMARY:Standard Single Single
URL:/site/bmx_races/417748
END:VEVENT
END:VCALENDAR
