BEGIN:VCALENDAR
VERSION:2.0
PRODID:icalendar-ruby
CALSCALE:GREGORIAN
METHOD:PUBLISH
BEGIN:VEVENT
DTSTAMP:20260425T035239Z
UID:c6af12c1-5314-4d32-99d3-a6f45d514d2f
DTSTART;VALUE=DATE:20190803
DTEND;VALUE=DATE:20190803
DESCRIPTION:Black Mountain BMX
LOCATION:24024 N 11th St  Phoenix AZ 85024 USA
SUMMARY:Race For Life Double Double
URL:/site/bmx_races/417285
END:VEVENT
END:VCALENDAR
