BEGIN:VCALENDAR
VERSION:2.0
PRODID:icalendar-ruby
CALSCALE:GREGORIAN
METHOD:PUBLISH
BEGIN:VEVENT
DTSTAMP:20260424T131158Z
UID:651ea9d9-2a9d-4692-8d1d-f4ebd47fa311
DTSTART;VALUE=DATE:20190625
DTEND;VALUE=DATE:20190625
DESCRIPTION:Air Time BMX
LOCATION:5051 S Frankwood Ave  Reedley CA 93654 USA
SUMMARY:Olympic Single
URL:/site/bmx_races/417281
END:VEVENT
END:VCALENDAR
