BEGIN:VCALENDAR
VERSION:2.0
PRODID:icalendar-ruby
CALSCALE:GREGORIAN
METHOD:PUBLISH
BEGIN:VEVENT
DTSTAMP:20260425T161025Z
UID:bddd9608-1fac-48b1-a302-3077920b2f98
DTSTART;VALUE=DATE:20190809
DTEND;VALUE=DATE:20190809
DESCRIPTION:VMP BMX
LOCATION:8018 Boydton Plank Road  N Dinwiddie VA 23803 USA
SUMMARY:Warnicke Single
URL:/site/bmx_races/417157
END:VEVENT
END:VCALENDAR
