BEGIN:VCALENDAR
VERSION:2.0
PRODID:icalendar-ruby
CALSCALE:GREGORIAN
METHOD:PUBLISH
BEGIN:VEVENT
DTSTAMP:20260424T175558Z
UID:00697569-ae8a-4bf0-bad4-5fe1aedb1eba
DTSTART;VALUE=DATE:20190511
DTEND;VALUE=DATE:20190511
DESCRIPTION:Freedom Park BMX Raceway
LOCATION:530 Convair St  Camarillo CA 93010 USA
SUMMARY:Standard Single Single
URL:/site/bmx_races/417051
END:VEVENT
END:VCALENDAR
