BEGIN:VCALENDAR
VERSION:2.0
PRODID:icalendar-ruby
CALSCALE:GREGORIAN
METHOD:PUBLISH
BEGIN:VEVENT
DTSTAMP:20260422T113245Z
UID:4e237baf-e6d9-421f-8016-30e211005e4f
DTSTART;VALUE=DATE:20190723
DTEND;VALUE=DATE:20190723
DESCRIPTION:Green Lake BMX
LOCATION:221 W South Street   Spicer MN 56288 USA
SUMMARY:Practice
URL:/site/bmx_races/416819
END:VEVENT
END:VCALENDAR
