BEGIN:VCALENDAR
VERSION:2.0
PRODID:icalendar-ruby
CALSCALE:GREGORIAN
METHOD:PUBLISH
BEGIN:VEVENT
DTSTAMP:20260422T113245Z
UID:907bc926-219b-4e09-b2b5-998f712911be
DTSTART;VALUE=DATE:20190716
DTEND;VALUE=DATE:20190716
DESCRIPTION:Green Lake BMX
LOCATION:221 W South Street   Spicer MN 56288 USA
SUMMARY:Practice
URL:/site/bmx_races/416817
END:VEVENT
END:VCALENDAR
