BEGIN:VCALENDAR
VERSION:2.0
PRODID:icalendar-ruby
CALSCALE:GREGORIAN
METHOD:PUBLISH
BEGIN:VEVENT
DTSTAMP:20260425T155414Z
UID:7c630f84-6d2b-48b9-bd59-34d1e52a3005
DTSTART;VALUE=DATE:20190824
DTEND;VALUE=DATE:20190824
DESCRIPTION:Bradley BMX
LOCATION:234 Urbane Rd  Cleveland TN 37312 USA
SUMMARY:Standard Single Single
URL:/site/bmx_races/416342
END:VEVENT
END:VCALENDAR
