BEGIN:VCALENDAR
VERSION:2.0
PRODID:icalendar-ruby
CALSCALE:GREGORIAN
METHOD:PUBLISH
BEGIN:VEVENT
DTSTAMP:20260424T131155Z
UID:b54e159b-c7c9-4648-acd2-71a253d31558
DTSTART;VALUE=DATE:20190714
DTEND;VALUE=DATE:20190714
DESCRIPTION:Wee-Chi-Tah BMX
LOCATION:404 Burkburnett Rd   WICHITA FALLS TX 76306 USA
SUMMARY:Race for Life Single
URL:/site/bmx_races/416320
END:VEVENT
END:VCALENDAR
