BEGIN:VCALENDAR
VERSION:2.0
PRODID:icalendar-ruby
CALSCALE:GREGORIAN
METHOD:PUBLISH
BEGIN:VEVENT
DTSTAMP:20260425T024423Z
UID:23c8899a-a3c7-4e20-9d1f-7ff047ccaef5
DTSTART;VALUE=DATE:20190615
DTEND;VALUE=DATE:20190615
DESCRIPTION:Razor City BMX
LOCATION:200 Pumphouse Ln  Gillette WY 82716 USA
SUMMARY:Olympic Single
URL:/site/bmx_races/416231
END:VEVENT
END:VCALENDAR
