BEGIN:VCALENDAR
VERSION:2.0
PRODID:icalendar-ruby
CALSCALE:GREGORIAN
METHOD:PUBLISH
BEGIN:VEVENT
DTSTAMP:20260425T035224Z
UID:2c30c0c0-9b00-45cb-9045-ef3708357447
DTSTART;VALUE=DATE:20190514
DTEND;VALUE=DATE:20190514
DESCRIPTION:Westerville BMX
LOCATION:535 Park Meadow Road  Westerville OH 43081 USA
SUMMARY:Standard Single Single
URL:/site/bmx_races/415882
END:VEVENT
END:VCALENDAR
