BEGIN:VCALENDAR
VERSION:2.0
PRODID:icalendar-ruby
CALSCALE:GREGORIAN
METHOD:PUBLISH
BEGIN:VEVENT
DTSTAMP:20260425T202024Z
UID:9cdfefd5-3739-417b-aed3-c277ff68dfe4
DTSTART;VALUE=DATE:20190618
DTEND;VALUE=DATE:20190618
DESCRIPTION:Caldwell BMX
LOCATION:4700 Skyway St  Caldwell ID 83605 USA
SUMMARY:Standard Single Single
URL:/site/bmx_races/415698
END:VEVENT
END:VCALENDAR
