BEGIN:VCALENDAR
VERSION:2.0
PRODID:icalendar-ruby
CALSCALE:GREGORIAN
METHOD:PUBLISH
BEGIN:VEVENT
DTSTAMP:20260425T221633Z
UID:91b9e0b5-8400-49a9-95a1-adc5124c3309
DTSTART;VALUE=DATE:20190723
DTEND;VALUE=DATE:20190723
DESCRIPTION:80/35 BMX
LOCATION:1701 E Mc Kinley Ave  Des Moines IA 50320 USA
SUMMARY:Standard Single Single
URL:/site/bmx_races/415011
END:VEVENT
END:VCALENDAR
